BEGIN:VCALENDAR
VERSION:2.0
PRODID:-//Sabre//Sabre VObject 4.5.8//EN
CALSCALE:GREGORIAN
BEGIN:VEVENT
UID:sabre-vobject-dbca7874-b502-47d0-a57a-c46770dfa331
DTSTAMP:20260422T231552Z
SUMMARY:Nachmittag des offenen Schulgebäudes
DESCRIPTION:https://regioningolstadt.com/nachmittag-des-offenen-schulgebaeu
 des_id19376
DTSTART;TZID=Europe/Berlin:20220602T150000
DTEND;TZID=Europe/Berlin:20220602T180000
LOCATION:Paul-Winter-Schule\, Staatliche Realschule Neuburg a. d. Donau  \,
  Kreuter Weg 10\, 86633 Neuburg (Donau)
END:VEVENT
END:VCALENDAR
