BEGIN:VCALENDAR
VERSION:2.0
PRODID:-//Sabre//Sabre VObject 4.5.8//EN
CALSCALE:GREGORIAN
BEGIN:VEVENT
UID:sabre-vobject-fffd2a01-a9a9-4182-b81e-d96650d74f70
DTSTAMP:20260423T145847Z
SUMMARY:Schlosstour am Sonntag
DESCRIPTION:https://regioningolstadt.com/schlosstour-am-sonntag_id19325
DTSTART;TZID=Europe/Berlin:20220605T113000
DTEND;TZID=Europe/Berlin:20220605T130000
LOCATION:Schlosshof\, Residenzstraße 2\, 86633 Neuburg
END:VEVENT
END:VCALENDAR
