BEGIN:VCALENDAR
VERSION:2.0
PRODID:-//Sabre//Sabre VObject 4.5.8//EN
CALSCALE:GREGORIAN
BEGIN:VEVENT
UID:sabre-vobject-54396b25-1323-46c7-a1ca-80b48f6c2e81
DTSTAMP:20260423T034004Z
SUMMARY:Mit dem Nachtwächter durch die Altstadt
DESCRIPTION:https://regioningolstadt.com/mit-dem-nachtwaechter-durch-die-al
 tstadt_id19324
DTSTART;TZID=Europe/Berlin:20220603T203000
DTEND;TZID=Europe/Berlin:20220603T220000
LOCATION:Tourist-Information\, Ottheinrichplatz A 118\, 86633 Neuburg
END:VEVENT
END:VCALENDAR
