BEGIN:VCALENDAR
VERSION:2.0
PRODID:-//Sabre//Sabre VObject 4.5.8//EN
CALSCALE:GREGORIAN
BEGIN:VEVENT
UID:sabre-vobject-f71e505f-a56f-444e-9a28-012d32d2faf6
DTSTAMP:20260422T215202Z
SUMMARY:Höhepunkte der Altstadt
DESCRIPTION:https://regioningolstadt.com/hoehepunkte-der-altstadt_id19323
DTSTART;TZID=Europe/Berlin:20220602T143000
DTEND;TZID=Europe/Berlin:20220602T153000
LOCATION:Tourist-Information\, Ottheinrichplatz A 118\, 86633 Neuburg
END:VEVENT
END:VCALENDAR
