BEGIN:VCALENDAR
VERSION:2.0
PRODID:-//Sabre//Sabre VObject 4.5.8//EN
CALSCALE:GREGORIAN
BEGIN:VEVENT
UID:sabre-vobject-1919f27b-4e1f-40db-8ef1-1833ac5f36dd
DTSTAMP:20260422T184900Z
SUMMARY:Höhepunkte der Altstadt
DESCRIPTION:https://regioningolstadt.com/hoehepunkte-der-altstadt_id19322
DTSTART;TZID=Europe/Berlin:20220601T170000
DTEND;TZID=Europe/Berlin:20220601T180000
LOCATION:Tourist-Information\, Ottheinrichplatz A 118\, 86633 Neuburg
END:VEVENT
END:VCALENDAR
