BEGIN:VCALENDAR
VERSION:2.0
PRODID:-//Sabre//Sabre VObject 4.5.8//EN
CALSCALE:GREGORIAN
BEGIN:VEVENT
UID:sabre-vobject-f4f4a533-0824-4326-804a-ce08b4d90469
DTSTAMP:20260422T123241Z
SUMMARY:Höhepunkt der Altstadt
DESCRIPTION:https://regioningolstadt.com/hoehepunkt-der-altstadt_id19320
DTSTART;TZID=Europe/Berlin:20220531T143000
DTEND;TZID=Europe/Berlin:20220531T153000
LOCATION:Tourist-Information\, Ottheinrichplatz A 118\, 86633 Neuburg
END:VEVENT
END:VCALENDAR
