BEGIN:VCALENDAR
VERSION:2.0
PRODID:-//Sabre//Sabre VObject 4.5.8//EN
CALSCALE:GREGORIAN
BEGIN:VEVENT
UID:sabre-vobject-96ef9893-5606-4beb-a61d-5d3689041324
DTSTAMP:20260422T052213Z
SUMMARY:Sonn- und Feiertagsführung
DESCRIPTION:https://regioningolstadt.com/sonn-und-feiertagsfuehrung_id19318
DTSTART;TZID=Europe/Berlin:20220529T143000
DTEND;TZID=Europe/Berlin:20220529T160000
LOCATION:Tourist-Information\, Ottheinrichplatz A 118\, 86633 Neuburg
END:VEVENT
END:VCALENDAR
