BEGIN:VCALENDAR
VERSION:2.0
PRODID:-//Sabre//Sabre VObject 4.5.8//EN
CALSCALE:GREGORIAN
BEGIN:VEVENT
UID:sabre-vobject-adff297a-eca3-4ffd-8dd3-cded40fcaabd
DTSTAMP:20260422T020624Z
SUMMARY:Kunstpfad Obere Schanze
DESCRIPTION:https://regioningolstadt.com/kunstpfad-obere-schanze_id19316
DTSTART;TZID=Europe/Berlin:20220529T110000
DTEND;TZID=Europe/Berlin:20220529T170000
LOCATION:Obere Schanze\, Oberer Schanzweg\, 86633  Neuburg
END:VEVENT
END:VCALENDAR
