BEGIN:VCALENDAR
VERSION:2.0
PRODID:-//Sabre//Sabre VObject 4.5.8//EN
CALSCALE:GREGORIAN
BEGIN:VEVENT
UID:sabre-vobject-f17ab5bd-943d-48f4-846c-7f251d5b394e
DTSTAMP:20260421T124634Z
SUMMARY:Von der Kaserne zum Campus Neuburg
DESCRIPTION:https://regioningolstadt.com/von-der-kaserne-zum-campus-neuburg
 _id19315
DTSTART;TZID=Europe/Berlin:20220527T150000
DTEND;TZID=Europe/Berlin:20220527T170000
LOCATION:Landratsamt Neuburg-Schrobenhausen\, Platz der Deutschen Einheit 1
 \, 86633  Neuburg
END:VEVENT
END:VCALENDAR
