BEGIN:VCALENDAR
VERSION:2.0
PRODID:-//Sabre//Sabre VObject 4.5.8//EN
CALSCALE:GREGORIAN
BEGIN:VEVENT
UID:sabre-vobject-e2e1e52b-c78e-4347-ba36-f74021ed84f5
DTSTAMP:20260421T095151Z
SUMMARY:Sonn- und Feiertagsfühung
DESCRIPTION:https://regioningolstadt.com/sonn-und-feiertagsfuehung_id19314
DTSTART;TZID=Europe/Berlin:20220526T143000
DTEND;TZID=Europe/Berlin:20220526T160000
LOCATION:Tourist-Information\, Ottheinrichplatz A 118\, 86633 Neuburg
END:VEVENT
END:VCALENDAR
