BEGIN:VCALENDAR
VERSION:2.0
PRODID:-//Sabre//Sabre VObject 4.5.8//EN
CALSCALE:GREGORIAN
BEGIN:VEVENT
UID:sabre-vobject-aa6d83ff-dc36-4f81-9a21-0dbbfdd81ca3
DTSTAMP:20260421T035259Z
SUMMARY:Höhepunkte der Altstadt
DESCRIPTION:https://regioningolstadt.com/hoehepunkte-der-altstadt_id19312
DTSTART;TZID=Europe/Berlin:20220525T170000
DTEND;TZID=Europe/Berlin:20220525T180000
LOCATION:Tourist-Information\, Ottheinrichplatz A 118\, 86633 Neuburg
END:VEVENT
END:VCALENDAR
