BEGIN:VCALENDAR
VERSION:2.0
PRODID:-//Sabre//Sabre VObject 4.5.8//EN
CALSCALE:GREGORIAN
BEGIN:VEVENT
UID:sabre-vobject-ef1a3e2b-e89c-4193-8b3a-0780c43212d2
DTSTAMP:20260421T005356Z
SUMMARY:Höhepunkte der Altstadt
DESCRIPTION:https://regioningolstadt.com/hoehepunkte-der-altstadt_id19309
DTSTART;TZID=Europe/Berlin:20220524T143000
DTEND;TZID=Europe/Berlin:20220524T153000
LOCATION:Tourist-Information\, Ottheinrichplatz A 118\, 86633 Neuburg
END:VEVENT
END:VCALENDAR
