BEGIN:VCALENDAR
VERSION:2.0
PRODID:-//Sabre//Sabre VObject 4.5.8//EN
CALSCALE:GREGORIAN
BEGIN:VEVENT
UID:sabre-vobject-c9680067-5310-4c2c-add6-e0920a4451dd
DTSTAMP:20260422T040136Z
SUMMARY:Fürstlich Geniessen
DESCRIPTION:https://regioningolstadt.com/fuerstlich-geniessen_id19297
DTSTART;TZID=Europe/Berlin:20220716T000000
DTEND;TZID=Europe/Berlin:20220717T000000
LOCATION:Residenzschloss\, Residenzstraße 2\, 86633 Neuburg
END:VEVENT
END:VCALENDAR
