BEGIN:VCALENDAR
VERSION:2.0
PRODID:-//Sabre//Sabre VObject 4.5.8//EN
CALSCALE:GREGORIAN
BEGIN:VEVENT
UID:sabre-vobject-48cc3834-1144-4079-b9d4-42ecd4111c25
DTSTAMP:20260423T054028Z
SUMMARY:41. Rainer Stadtfest
DESCRIPTION:https://regioningolstadt.com/41-rainer-stadtfest_id19295
DTSTART;TZID=Europe/Berlin:20220709T000000
DTEND;TZID=Europe/Berlin:20220710T000000
LOCATION:Hauptstraße Rain am Lech\, Hauptstraße\, 86641 Rain
END:VEVENT
END:VCALENDAR
