BEGIN:VCALENDAR
VERSION:2.0
PRODID:-//Sabre//Sabre VObject 4.5.8//EN
CALSCALE:GREGORIAN
BEGIN:VEVENT
UID:sabre-vobject-48e9277e-49df-4821-98a4-d0187d058bd8
DTSTAMP:20260424T014252Z
SUMMARY:Foodtruck Festival
DESCRIPTION:https://regioningolstadt.com/foodtruck-festival_id19294
DTSTART;TZID=Europe/Berlin:20220611T110000
DTEND;TZID=Europe/Berlin:20220612T220000
LOCATION:Schlosshof\, Residenzstraße 2\, 86633 Neuburg
END:VEVENT
END:VCALENDAR
