BEGIN:VCALENDAR
VERSION:2.0
PRODID:-//Sabre//Sabre VObject 4.5.8//EN
CALSCALE:GREGORIAN
BEGIN:VEVENT
UID:sabre-vobject-67015255-8927-4b91-9986-2d94e1b91d2e
DTSTAMP:20260423T090242Z
SUMMARY:Paul Prem & Conny Miller @Più Piano
DESCRIPTION:https://regioningolstadt.com/paul-prem-conny-miller-piu-piano_i
 d19293
DTSTART;TZID=Europe/Berlin:20220604T200000
DURATION:PT30M
LOCATION:Più Piano\, Spitalstraße C 172\, 86633 Neuburg an der Donau
END:VEVENT
END:VCALENDAR
