BEGIN:VCALENDAR
VERSION:2.0
PRODID:-//Sabre//Sabre VObject 4.5.8//EN
CALSCALE:GREGORIAN
BEGIN:VEVENT
UID:sabre-vobject-18d16a24-3540-450e-816d-14224fb972ad
DTSTAMP:20260424T122848Z
SUMMARY:Rainer Schmidt
DESCRIPTION:https://regioningolstadt.com/rainer-schmidt_id19249
DTSTART;TZID=Europe/Berlin:20220612T190000
DURATION:PT30M
LOCATION:Studienkirche St. Ursula\, Frauenplatz 1\, 86633 Neuburg
END:VEVENT
END:VCALENDAR
