BEGIN:VCALENDAR
VERSION:2.0
PRODID:-//Sabre//Sabre VObject 4.5.8//EN
CALSCALE:GREGORIAN
BEGIN:VEVENT
UID:sabre-vobject-bcd841b7-051c-40f8-83d5-f3997d454b3c
DTSTAMP:20260422T094523Z
SUMMARY:Julia Israelian & Friends
DESCRIPTION:https://regioningolstadt.com/julia-israelian-friends_id19248
DTSTART;TZID=Europe/Berlin:20220529T190000
DURATION:PT30M
LOCATION:Schlosskapelle\, Residenzstraße 2\, 86633 Neuburg
END:VEVENT
END:VCALENDAR
