BEGIN:VCALENDAR
VERSION:2.0
PRODID:-//Sabre//Sabre VObject 4.5.8//EN
CALSCALE:GREGORIAN
BEGIN:VEVENT
UID:sabre-vobject-f49acf33-ebff-452b-a319-548699624e74
DTSTAMP:20260421T143201Z
SUMMARY:Flohmarkt Burgheim
DESCRIPTION:https://regioningolstadt.com/flohmarkt-burgheim_id19221
DTSTART;TZID=Europe/Berlin:20220717T000000
DURATION:PT30M
LOCATION:REWE Burgheim\, Bertoldsheimer Straße 82\, 86666 Burgheim
END:VEVENT
END:VCALENDAR
