BEGIN:VCALENDAR
VERSION:2.0
PRODID:-//Sabre//Sabre VObject 4.5.8//EN
CALSCALE:GREGORIAN
BEGIN:VEVENT
UID:sabre-vobject-3ad8ef73-0795-44d7-97b1-f3570ec53fb9
DTSTAMP:20260423T193043Z
SUMMARY:Kryptowährungen
DESCRIPTION:https://regioningolstadt.com/kryptowaehrungen_id19219
DTSTART;TZID=Europe/Berlin:20220705T190000
DURATION:PT30M
LOCATION:das Otto\, Schmidstraße C113\, 86633  Neuburg
END:VEVENT
END:VCALENDAR
