BEGIN:VCALENDAR
VERSION:2.0
PRODID:-//Sabre//Sabre VObject 4.5.8//EN
CALSCALE:GREGORIAN
BEGIN:VEVENT
UID:sabre-vobject-84fd08ed-2695-49ce-981e-63389adac6f6
DTSTAMP:20260423T222334Z
SUMMARY:Konzerte im Baringer Münster 
DESCRIPTION:https://regioningolstadt.com/konzerte-im-baringer-muenster_id19
 215
DTSTART;TZID=Europe/Berlin:20220703T170000
DURATION:PT30M
LOCATION:Heilig Kreuz Kirche\, Kirchplatz 3\, 86633  Bergen
END:VEVENT
END:VCALENDAR
