BEGIN:VCALENDAR
VERSION:2.0
PRODID:-//Sabre//Sabre VObject 4.5.8//EN
CALSCALE:GREGORIAN
BEGIN:VEVENT
UID:sabre-vobject-db389a53-2082-4153-aacc-8e597a525d60
DTSTAMP:20260424T044110Z
SUMMARY:Flohmarkt Rennertshofen
DESCRIPTION:https://regioningolstadt.com/flohmarkt-rennertshofen_id19212
DTSTART;TZID=Europe/Berlin:20220612T000000
DURATION:PT30M
LOCATION:Markt Rennertshofen\, Marktstraße \, 86643 Rennertshofen
END:VEVENT
END:VCALENDAR
