BEGIN:VCALENDAR
VERSION:2.0
PRODID:-//Sabre//Sabre VObject 4.5.8//EN
CALSCALE:GREGORIAN
BEGIN:VEVENT
UID:sabre-vobject-28494c65-4023-427c-b01a-4429f2aae98e
DTSTAMP:20260423T102741Z
SUMMARY:Rock Down Open Air
DESCRIPTION:https://regioningolstadt.com/rock-down-open-air_id19210
DTSTART;TZID=Europe/Berlin:20220604T200000
DURATION:PT30M
LOCATION:Sportheim SC Ried\, Am Sportpl. 8\, 86633 Neuburg
END:VEVENT
END:VCALENDAR
