BEGIN:VCALENDAR
VERSION:2.0
PRODID:-//Sabre//Sabre VObject 4.5.8//EN
CALSCALE:GREGORIAN
BEGIN:VEVENT
UID:sabre-vobject-45a93ecf-5313-4146-be72-92f31f04ccf9
DTSTAMP:20260423T062823Z
SUMMARY:Vernissage Body to Body
DESCRIPTION:https://regioningolstadt.com/vernissage-body-to-body_id19207
DTSTART;TZID=Europe/Berlin:20220604T000000
DTEND;TZID=Europe/Berlin:20220605T000000
LOCATION:KunstQuartier\, Theresienstraße 183\, 86633 Neuburg
END:VEVENT
END:VCALENDAR
