BEGIN:VCALENDAR
VERSION:2.0
PRODID:-//Sabre//Sabre VObject 4.5.8//EN
CALSCALE:GREGORIAN
BEGIN:VEVENT
UID:sabre-vobject-e471fb07-fbb2-46a2-8b67-19542301275e
DTSTAMP:20260422T081404Z
SUMMARY:Konzerte im Baringer Münster
DESCRIPTION:https://regioningolstadt.com/konzerte-im-baringer-muenster_id19
 205
DTSTART;TZID=Europe/Berlin:20220529T180000
DURATION:PT30M
LOCATION:Heilig Kreuz Kirche\, Kirchplatz 3\, 86633  Bergen
END:VEVENT
END:VCALENDAR
