BEGIN:VCALENDAR
VERSION:2.0
PRODID:-//Sabre//Sabre VObject 4.5.8//EN
CALSCALE:GREGORIAN
BEGIN:VEVENT
UID:sabre-vobject-9e2e5e4f-1575-4475-b789-4de483e0f758
DTSTAMP:20260421T231158Z
SUMMARY:Flohmarkt Burgheim
DESCRIPTION:https://regioningolstadt.com/flohmarkt-burgheim_id19203
DTSTART;TZID=Europe/Berlin:20220529T000000
DURATION:PT30M
LOCATION:REWE Burgheim\, Bertoldsheimer Straße 82\, 86666 Burgheim
END:VEVENT
END:VCALENDAR
