BEGIN:VCALENDAR
VERSION:2.0
PRODID:-//Sabre//Sabre VObject 4.5.8//EN
CALSCALE:GREGORIAN
BEGIN:VEVENT
UID:sabre-vobject-a7196216-cf6f-4ac3-a16f-3bce319e5c96
DTSTAMP:20260422T004920Z
SUMMARY:Fliegerfest Burgheim
DESCRIPTION:https://regioningolstadt.com/fliegerfest-burgheim_id19201
DTSTART;TZID=Europe/Berlin:20220529T100000
DURATION:PT30M
LOCATION:Flugplatz Burgheim\, Illdorfer Straße \, 86666 Burgheim
END:VEVENT
END:VCALENDAR
