BEGIN:VCALENDAR
VERSION:2.0
PRODID:-//Sabre//Sabre VObject 4.5.8//EN
CALSCALE:GREGORIAN
BEGIN:VEVENT
UID:sabre-vobject-2f0d282e-ba4c-4dcf-b21c-b2a3ea613af4
DTSTAMP:20260421T214233Z
SUMMARY:Back in Time im Tanzcafé Hertlein
DESCRIPTION:https://regioningolstadt.com/back-in-time-im-tanzcafe-hertlein_
 id19199
DTSTART;TZID=Europe/Berlin:20220528T220000
DURATION:PT30M
LOCATION:Tanzcafe Hertlein\, Oskar-Wittmann-Straße 14\, 86633 Neuburg an d
 er Donau
END:VEVENT
END:VCALENDAR
