BEGIN:VCALENDAR
VERSION:2.0
PRODID:-//Sabre//Sabre VObject 4.5.8//EN
CALSCALE:GREGORIAN
BEGIN:VEVENT
UID:sabre-vobject-26b41aa9-f98c-4efa-ae0c-34a1c050bd8b
DTSTAMP:20260421T112413Z
SUMMARY:VFDU Rescue Challenge 2022
DESCRIPTION:https://regioningolstadt.com/vfdu-rescue-challenge-2022_id19196
DTSTART;TZID=Europe/Berlin:20220527T000000
DTEND;TZID=Europe/Berlin:20220529T000000
LOCATION:Feuerwehr Neuburg\, Karl-Konrad-Straße 1\, 86633 Neuburg an der D
 onau
END:VEVENT
END:VCALENDAR
