BEGIN:VCALENDAR
VERSION:2.0
PRODID:-//Sabre//Sabre VObject 4.5.8//EN
CALSCALE:GREGORIAN
BEGIN:VEVENT
UID:sabre-vobject-ba19b139-1d19-4b13-819d-dd8ecf358ef2
DTSTAMP:20260421T051938Z
SUMMARY:1. Ranzhof Open Air 2022
DESCRIPTION:https://regioningolstadt.com/1-ranzhof-open-air-2022_id19195
DTSTART;TZID=Europe/Berlin:20220526T000000
DTEND;TZID=Europe/Berlin:20220528T000000
END:VEVENT
END:VCALENDAR
