BEGIN:VCALENDAR
VERSION:2.0
PRODID:-//Sabre//Sabre VObject 4.5.8//EN
CALSCALE:GREGORIAN
BEGIN:VEVENT
UID:sabre-vobject-2afb9612-bf82-4a4b-81f9-f25a7b7c5a67
DTSTAMP:20260420T231957Z
SUMMARY:Konzerte im Baringer Münster
DESCRIPTION:https://regioningolstadt.com/konzerte-im-baringer-muenster_id19
 193
DTSTART;TZID=Europe/Berlin:20220522T170000
DURATION:PT30M
LOCATION:Heilig Kreuz Kirche\, Kirchplatz 3\, 86633  Bergen
END:VEVENT
END:VCALENDAR
