BEGIN:VCALENDAR
VERSION:2.0
PRODID:-//Sabre//Sabre VObject 4.5.8//EN
CALSCALE:GREGORIAN
BEGIN:VEVENT
UID:sabre-vobject-89ae7f4f-2f21-40d8-87ce-8b60d73bfaa5
DTSTAMP:20260420T214915Z
SUMMARY:Flohmarkt Parkplatz Rewe
DESCRIPTION:https://regioningolstadt.com/flohmarkt-parkplatz-rewe_id19192
DTSTART;TZID=Europe/Berlin:20220522T000000
DURATION:PT30M
LOCATION:REWE Stefan Guggenmos OHG\, Nördliche Grünauer Straße 4\, 86633
  Neuburg an der Donau
END:VEVENT
END:VCALENDAR
