BEGIN:VCALENDAR
VERSION:2.0
PRODID:-//Sabre//Sabre VObject 4.5.8//EN
CALSCALE:GREGORIAN
BEGIN:VEVENT
UID:sabre-vobject-89631682-d3e1-477e-9f57-85eee395cde0
DTSTAMP:20260420T190355Z
SUMMARY:2. Area Neue Deutsche Welle
DESCRIPTION:https://regioningolstadt.com/2-area-neue-deutsche-welle_id19189
DTSTART;TZID=Europe/Berlin:20220521T220000
DURATION:PT30M
LOCATION:Moospark\, Rudolf-Diesel Straße 23\, 86554 Pöttmes
END:VEVENT
END:VCALENDAR
