BEGIN:VCALENDAR
VERSION:2.0
PRODID:-//Sabre//Sabre VObject 4.5.8//EN
CALSCALE:GREGORIAN
BEGIN:VEVENT
UID:sabre-vobject-70529e74-39d0-43e4-a5bc-0a7392ea56ea
DTSTAMP:20260420T202009Z
SUMMARY:Summer Closing
DESCRIPTION:https://regioningolstadt.com/summer-closing_id19187
DTSTART;TZID=Europe/Berlin:20220521T220000
DURATION:PT30M
LOCATION:Moospark\, Rudolf-Diesel Straße 23\, 86554 Pöttmes
END:VEVENT
END:VCALENDAR
