BEGIN:VCALENDAR
VERSION:2.0
PRODID:-//Sabre//Sabre VObject 4.5.8//EN
CALSCALE:GREGORIAN
BEGIN:VEVENT
UID:sabre-vobject-da8c9560-e120-4ef0-9781-42d106d78c04
DTSTAMP:20260424T190216Z
SUMMARY:Frauen. Führung. Neu
DESCRIPTION:https://regioningolstadt.com/frauen-fuehrung-neu_id19131
DTSTART;TZID=Europe/Berlin:20220628T090000
DTEND;TZID=Europe/Berlin:20220629T160000
LOCATION:Maschinenring\, Am Maschinenring 1\, 86633 Neuburg
END:VEVENT
END:VCALENDAR
