BEGIN:VCALENDAR
VERSION:2.0
PRODID:-//Sabre//Sabre VObject 4.5.8//EN
CALSCALE:GREGORIAN
BEGIN:VEVENT
UID:sabre-vobject-7288d1cf-a520-4f3b-a99f-d82e26eefcc4
DTSTAMP:20260420T130612Z
SUMMARY:analog.digital.flüssig
DESCRIPTION:https://regioningolstadt.com/analog-digital-fluessig_id18986
DTSTART;TZID=Europe/Berlin:20220520T160000
DURATION:PT30M
LOCATION:Brauerei Juliusbräu\, Augsburger Straße B 135\, 86633 Neuburg an
  der Donau
END:VEVENT
END:VCALENDAR
