BEGIN:VCALENDAR
VERSION:2.0
PRODID:-//Sabre//Sabre VObject 4.5.8//EN
CALSCALE:GREGORIAN
BEGIN:VEVENT
UID:sabre-vobject-472201b7-30dc-4234-9942-990aa182cfa2
DTSTAMP:20260419T133323Z
SUMMARY:Blutspende in Neuburg
DESCRIPTION:https://regioningolstadt.com/blutspende-in-neuburg_id18982
DTSTART;TZID=Europe/Berlin:20220504T160000
DTEND;TZID=Europe/Berlin:20220505T200000
LOCATION:Grundschule Ost\, Berliner Str. 37\, 86633 Neuburg
END:VEVENT
END:VCALENDAR
