BEGIN:VCALENDAR
VERSION:2.0
PRODID:-//Sabre//Sabre VObject 4.5.8//EN
CALSCALE:GREGORIAN
BEGIN:VEVENT
UID:sabre-vobject-52d1f0ee-2048-4976-b8c6-7748a9a143e8
DTSTAMP:20260422T203937Z
SUMMARY:Flohmarkt am Südpark
DESCRIPTION:https://regioningolstadt.com/flohmarkt-am-suedpark_id18903
DTSTART;TZID=Europe/Berlin:20220710T070000
DURATION:PT30M
LOCATION:Südpark\, Südpark\, 86633 Neuburg
END:VEVENT
END:VCALENDAR
