BEGIN:VCALENDAR
VERSION:2.0
PRODID:-//Sabre//Sabre VObject 4.5.8//EN
CALSCALE:GREGORIAN
BEGIN:VEVENT
UID:sabre-vobject-8a45fb09-f02d-4f6b-90c4-982998c486e8
DTSTAMP:20260420T045537Z
SUMMARY:Selectas Night
DESCRIPTION:https://regioningolstadt.com/selectas-night_id18865
DTSTART;TZID=Europe/Berlin:20220429T220000
DURATION:PT30M
LOCATION:Die Drogerie\,  Luitpoldstrasse 180B\,  86633 Neuburg an der Donau
END:VEVENT
END:VCALENDAR
