BEGIN:VCALENDAR
VERSION:2.0
PRODID:-//Sabre//Sabre VObject 4.5.8//EN
CALSCALE:GREGORIAN
BEGIN:VEVENT
UID:sabre-vobject-d543e708-3095-4731-9d0f-abb72494df9d
DTSTAMP:20260421T103600Z
SUMMARY:Premium Black
DESCRIPTION:https://regioningolstadt.com/premium-black_id18864
DTSTART;TZID=Europe/Berlin:20220416T200000
DURATION:PT30M
LOCATION:Fly Cocktailbar\, Elisenplatz C 38\, 86633 Neuburg an der Donau
END:VEVENT
END:VCALENDAR
