BEGIN:VCALENDAR
VERSION:2.0
PRODID:-//Sabre//Sabre VObject 4.5.8//EN
CALSCALE:GREGORIAN
BEGIN:VEVENT
UID:sabre-vobject-e609614b-7c46-43fb-a63f-e9e1e94debfd
DTSTAMP:20260419T192755Z
SUMMARY:Pippo Pollina & Palermo Acoustic Quintet
DESCRIPTION:https://regioningolstadt.com/pippo-pollina-palermo-acoustic-qui
 ntet_id18854
DTSTART;TZID=Europe/Berlin:20220720T220000
DURATION:PT30M
LOCATION:Schlosshof\, Residenzstraße 2\, 86633 Neuburg
END:VEVENT
END:VCALENDAR
