BEGIN:VCALENDAR
VERSION:2.0
PRODID:-//Sabre//Sabre VObject 4.5.8//EN
CALSCALE:GREGORIAN
BEGIN:VEVENT
UID:sabre-vobject-320148af-59ee-47c3-a6a7-36cf173fe3f4
DTSTAMP:20260422T022746Z
SUMMARY:Moosival
DESCRIPTION:https://regioningolstadt.com/moosival_id18853
DTSTART;TZID=Europe/Berlin:20220716T000000
DTEND;TZID=Europe/Berlin:20220717T000000
LOCATION:Maschinenring\, Am Maschinenring 1\, 86633 Neuburg
END:VEVENT
END:VCALENDAR
