BEGIN:VCALENDAR
VERSION:2.0
PRODID:-//Sabre//Sabre VObject 4.5.8//EN
CALSCALE:GREGORIAN
BEGIN:VEVENT
UID:sabre-vobject-6dc1bb92-dd92-4535-ab31-a74fdc8f9cd3
DTSTAMP:20260422T083926Z
SUMMARY:Die Spiele des Jahrhunderts
DESCRIPTION:https://regioningolstadt.com/die-spiele-des-jahrhunderts_id1885
 2
DTSTART;TZID=Europe/Berlin:20220715T000000
DURATION:PT30M
LOCATION:Brandlbad Neuburg\, Am Unteren Brandl\, 86633 Neuburg an der Donau
END:VEVENT
END:VCALENDAR
