BEGIN:VCALENDAR
VERSION:2.0
PRODID:-//Sabre//Sabre VObject 4.5.8//EN
CALSCALE:GREGORIAN
BEGIN:VEVENT
UID:sabre-vobject-0de18bfe-3c18-4816-91f4-6b8e9be56ed1
DTSTAMP:20260423T100906Z
SUMMARY:Kultur am Beckenrand
DESCRIPTION:https://regioningolstadt.com/kultur-am-beckenrand_id18851
DTSTART;TZID=Europe/Berlin:20220708T000000
DURATION:PT30M
LOCATION:Brandlbad Neuburg\, Am Unteren Brandl\, 86633 Neuburg an der Donau
END:VEVENT
END:VCALENDAR
