BEGIN:VCALENDAR
VERSION:2.0
PRODID:-//Sabre//Sabre VObject 4.5.8//EN
CALSCALE:GREGORIAN
BEGIN:VEVENT
UID:sabre-vobject-43bf26e3-0790-41db-8cb7-99399c17224f
DTSTAMP:20260423T130326Z
SUMMARY:Backschule der Bäckerei Schlegl
DESCRIPTION:https://regioningolstadt.com/backschule-der-baeckerei-schlegl_i
 d18850
DTSTART;TZID=Europe/Berlin:20220707T160000
DURATION:PT30M
LOCATION:Bäckerei Schlegl\, Franziskanerstr. 201\, 86633 Neuburg an der Do
 nau
END:VEVENT
END:VCALENDAR
