BEGIN:VCALENDAR
VERSION:2.0
PRODID:-//Sabre//Sabre VObject 4.5.8//EN
CALSCALE:GREGORIAN
BEGIN:VEVENT
UID:sabre-vobject-7eb64870-f43b-486b-846d-0a05a6d43b3d
DTSTAMP:20260425T110548Z
SUMMARY:Gesund & Aktiv
DESCRIPTION:https://regioningolstadt.com/gesund-aktiv_id18848
DTSTART;TZID=Europe/Berlin:20220625T000000
DTEND;TZID=Europe/Berlin:20220626T000000
LOCATION:Parkhalle\, Ludwig-Thoma-Platz 1\, 86633 Neuburg
END:VEVENT
END:VCALENDAR
