BEGIN:VCALENDAR
VERSION:2.0
PRODID:-//Sabre//Sabre VObject 4.5.8//EN
CALSCALE:GREGORIAN
BEGIN:VEVENT
UID:sabre-vobject-eda8810e-4e60-4559-9a30-cb2bbdcaa19d
DTSTAMP:20260425T025550Z
SUMMARY:Mittelalter Spektakel Sandizell
DESCRIPTION:https://regioningolstadt.com/mittelalter-spektakel-sandizell_id
 18847
DTSTART;TZID=Europe/Berlin:20220619T110000
DURATION:PT30M
LOCATION:86529 Schrobenhausen\, Schloss Sandizell\, Schloßstraße 4\, 8652
 9 Schrobenhausen
END:VEVENT
END:VCALENDAR
