BEGIN:VCALENDAR
VERSION:2.0
PRODID:-//Sabre//Sabre VObject 4.5.8//EN
CALSCALE:GREGORIAN
BEGIN:VEVENT
UID:sabre-vobject-7aa049db-9f67-4751-8629-069187832468
DTSTAMP:20260424T233402Z
SUMMARY:Mittelalter Spektakel Sandizell
DESCRIPTION:https://regioningolstadt.com/mittelalter-spektakel-sandizell_id
 18846
DTSTART;TZID=Europe/Berlin:20220617T000000
DURATION:PT30M
LOCATION:86529 Schrobenhausen\, Schloss Sandizell\, Schloßstraße 4\, 8652
 9 Schrobenhausen
END:VEVENT
END:VCALENDAR
