BEGIN:VCALENDAR
VERSION:2.0
PRODID:-//Sabre//Sabre VObject 4.5.8//EN
CALSCALE:GREGORIAN
BEGIN:VEVENT
UID:sabre-vobject-aace5adc-a608-4bf7-a0d6-5b86b3cedb12
DTSTAMP:20260424T203917Z
SUMMARY:Mittelalter Spektakel Sandizell
DESCRIPTION:https://regioningolstadt.com/mittelalter-spektakel-sandizell_id
 18844
DTSTART;TZID=Europe/Berlin:20220616T110000
DURATION:PT30M
LOCATION:86529 Schrobenhausen\, Schloss Sandizell\, Schloßstraße 4\, 8652
 9 Schrobenhausen
END:VEVENT
END:VCALENDAR
