BEGIN:VCALENDAR
VERSION:2.0
PRODID:-//Sabre//Sabre VObject 4.5.8//EN
CALSCALE:GREGORIAN
BEGIN:VEVENT
UID:sabre-vobject-830563ff-95dc-46af-a152-41a9c937e837
DTSTAMP:20260424T153937Z
SUMMARY:Backkurs der Bäckerei Schlegl
DESCRIPTION:https://regioningolstadt.com/backkurs-der-baeckerei-schlegl_id1
 8843
DTSTART;TZID=Europe/Berlin:20220614T160000
DURATION:PT30M
LOCATION:Bäckerei Schlegl\, Franziskanerstr. 201\, 86633 Neuburg an der Do
 nau
END:VEVENT
END:VCALENDAR
